BEGIN:VCALENDAR
VERSION:2.0
PRODID:-//Temple Micah - ECPv6.15.16//NONSGML v1.0//EN
CALSCALE:GREGORIAN
METHOD:PUBLISH
X-ORIGINAL-URL:http://temple-micah.org
X-WR-CALDESC:Events for Temple Micah
REFRESH-INTERVAL;VALUE=DURATION:PT1H
X-Robots-Tag:noindex
X-PUBLISHED-TTL:PT1H
BEGIN:VTIMEZONE
TZID:UTC
BEGIN:STANDARD
TZOFFSETFROM:+0000
TZOFFSETTO:+0000
TZNAME:UTC
DTSTART:20220101T000000
END:STANDARD
END:VTIMEZONE
BEGIN:VEVENT
DTSTART;TZID=UTC:20230914T180000
DTEND;TZID=UTC:20230914T180000
DTSTAMP:20260419T185753
CREATED:20230817T234840Z
LAST-MODIFIED:20230914T021958Z
UID:3444-1694714400-1694714400@temple-micah.org
SUMMARY:Sanctuary Set Up for HHD
DESCRIPTION:Volunteers needed: https://www.signupgenius.com/go/10C0B4EA5AC29A3F94-temple
URL:http://temple-micah.org/event/sanctuary-set-up-for-hhd/
LOCATION:New Jersey
END:VEVENT
END:VCALENDAR