BEGIN:VCALENDAR
VERSION:2.0
PRODID:-//Temple Micah - ECPv6.15.16//NONSGML v1.0//EN
CALSCALE:GREGORIAN
METHOD:PUBLISH
X-ORIGINAL-URL:http://temple-micah.org
X-WR-CALDESC:Events for Temple Micah
REFRESH-INTERVAL;VALUE=DURATION:PT1H
X-Robots-Tag:noindex
X-PUBLISHED-TTL:PT1H
BEGIN:VTIMEZONE
TZID:UTC
BEGIN:STANDARD
TZOFFSETFROM:+0000
TZOFFSETTO:+0000
TZNAME:UTC
DTSTART:20220101T000000
END:STANDARD
END:VTIMEZONE
BEGIN:VEVENT
DTSTART;TZID=UTC:20231107T164500
DTEND;TZID=UTC:20231107T181500
DTSTAMP:20260419T160145
CREATED:20230825T194700Z
LAST-MODIFIED:20230825T194822Z
UID:3466-1699375500-1699380900@temple-micah.org
SUMMARY:No Religious School
DESCRIPTION:
URL:http://temple-micah.org/event/no-religious-school-2/
LOCATION:New Jersey
END:VEVENT
BEGIN:VEVENT
DTSTART;TZID=UTC:20231107T193000
DTEND;TZID=UTC:20231107T213000
DTSTAMP:20260419T160145
CREATED:20230918T233329Z
LAST-MODIFIED:20231010T145830Z
UID:3612-1699385400-1699392600@temple-micah.org
SUMMARY:Author Event
DESCRIPTION:Meryl Frank will be discussing her book Unearthed: A Lost Actress\, a Forbidden Book\, and a Search for Life in the Shadow of the Holocaust.​ \n\n\n\n$18 in advance/$25 dollars at the door \n\n\n\nClick here to reserve your spot
URL:http://temple-micah.org/event/author-event/
LOCATION:New Jersey
END:VEVENT
END:VCALENDAR