BEGIN:VCALENDAR
VERSION:2.0
PRODID:-//Temple Micah - ECPv6.15.16//NONSGML v1.0//EN
CALSCALE:GREGORIAN
METHOD:PUBLISH
X-WR-CALNAME:Temple Micah
X-ORIGINAL-URL:http://temple-micah.org
X-WR-CALDESC:Events for Temple Micah
REFRESH-INTERVAL;VALUE=DURATION:PT1H
X-Robots-Tag:noindex
X-PUBLISHED-TTL:PT1H
BEGIN:VTIMEZONE
TZID:UTC
BEGIN:STANDARD
TZOFFSETFROM:+0000
TZOFFSETTO:+0000
TZNAME:UTC
DTSTART:20240101T000000
END:STANDARD
END:VTIMEZONE
BEGIN:VEVENT
DTSTART;TZID=UTC:20250520T164500
DTEND;TZID=UTC:20250520T181500
DTSTAMP:20260422T115201
CREATED:20240821T173038Z
LAST-MODIFIED:20240821T174341Z
UID:4110-1747759500-1747764900@temple-micah.org
SUMMARY:Religious School
DESCRIPTION:Last Day – Celebration
URL:http://temple-micah.org/event/religious-school-60/
LOCATION:New Jersey
END:VEVENT
END:VCALENDAR