BEGIN:VCALENDAR
VERSION:2.0
PRODID:-//Temple Micah - ECPv6.15.16//NONSGML v1.0//EN
CALSCALE:GREGORIAN
METHOD:PUBLISH
X-WR-CALNAME:Temple Micah
X-ORIGINAL-URL:http://temple-micah.org
X-WR-CALDESC:Events for Temple Micah
REFRESH-INTERVAL;VALUE=DURATION:PT1H
X-Robots-Tag:noindex
X-PUBLISHED-TTL:PT1H
BEGIN:VTIMEZONE
TZID:UTC
BEGIN:STANDARD
TZOFFSETFROM:+0000
TZOFFSETTO:+0000
TZNAME:UTC
DTSTART:20240101T000000
END:STANDARD
END:VTIMEZONE
BEGIN:VEVENT
DTSTART;TZID=UTC:20251125T164500
DTEND;TZID=UTC:20251125T181500
DTSTAMP:20260422T015423
CREATED:20250831T201824Z
LAST-MODIFIED:20250831T201826Z
UID:4377-1764089100-1764094500@temple-micah.org
SUMMARY:Religious School
DESCRIPTION:Thanksgiving
URL:http://temple-micah.org/event/religious-school-68/
LOCATION:New Jersey
END:VEVENT
BEGIN:VEVENT
DTSTART;TZID=UTC:20251125T190000
DTEND;TZID=UTC:20251125T190000
DTSTAMP:20260422T015423
CREATED:20251119T183729Z
LAST-MODIFIED:20251119T183730Z
UID:4490-1764097200-1764097200@temple-micah.org
SUMMARY:Interfaith Thanksgiving Service
DESCRIPTION:You are invited to the Lawrence Township Community Interfaith Service of Thanksgiving at the Presbyterian Church of Lawrenceville on Tuesday\, November 25 starting at 7:00pm. Please bring a non-perishable food donation or monetary donation to benefit Trenton Area Soup Kitchen.
URL:http://temple-micah.org/event/interfaith-thanksgiving-service/
LOCATION:New Jersey
END:VEVENT
END:VCALENDAR