BEGIN:VCALENDAR
VERSION:2.0
PRODID:-//Temple Micah - ECPv6.15.16//NONSGML v1.0//EN
CALSCALE:GREGORIAN
METHOD:PUBLISH
X-WR-CALNAME:Temple Micah
X-ORIGINAL-URL:http://temple-micah.org
X-WR-CALDESC:Events for Temple Micah
REFRESH-INTERVAL;VALUE=DURATION:PT1H
X-Robots-Tag:noindex
X-PUBLISHED-TTL:PT1H
BEGIN:VTIMEZONE
TZID:UTC
BEGIN:STANDARD
TZOFFSETFROM:+0000
TZOFFSETTO:+0000
TZNAME:UTC
DTSTART:20240101T000000
END:STANDARD
END:VTIMEZONE
BEGIN:VEVENT
DTSTART;TZID=UTC:20251202T164500
DTEND;TZID=UTC:20251202T181500
DTSTAMP:20260422T002237
CREATED:20250831T201905Z
LAST-MODIFIED:20250831T201906Z
UID:4379-1764693900-1764699300@temple-micah.org
SUMMARY:Religious School
DESCRIPTION:
URL:http://temple-micah.org/event/religious-school-69/
LOCATION:New Jersey
END:VEVENT
BEGIN:VEVENT
DTSTART;TZID=UTC:20251202T190000
DTEND;TZID=UTC:20251202T190000
DTSTAMP:20260422T002237
CREATED:20250831T200153Z
LAST-MODIFIED:20250831T200154Z
UID:4347-1764702000-1764702000@temple-micah.org
SUMMARY:Mah Jongg Game Night
DESCRIPTION:Free. RSVP to Ivy Cohen at ivyc1021@aol.com
URL:http://temple-micah.org/event/mah-jongg-game-night-4/
LOCATION:New Jersey
END:VEVENT
END:VCALENDAR