BEGIN:VCALENDAR
VERSION:2.0
PRODID:-//Temple Micah - ECPv6.15.16//NONSGML v1.0//EN
CALSCALE:GREGORIAN
METHOD:PUBLISH
X-WR-CALNAME:Temple Micah
X-ORIGINAL-URL:http://temple-micah.org
X-WR-CALDESC:Events for Temple Micah
REFRESH-INTERVAL;VALUE=DURATION:PT1H
X-Robots-Tag:noindex
X-PUBLISHED-TTL:PT1H
BEGIN:VTIMEZONE
TZID:UTC
BEGIN:STANDARD
TZOFFSETFROM:+0000
TZOFFSETTO:+0000
TZNAME:UTC
DTSTART:20250101T000000
END:STANDARD
END:VTIMEZONE
BEGIN:VEVENT
DTSTART;TZID=UTC:20260402T173000
DTEND;TZID=UTC:20260402T203000
DTSTAMP:20260421T182422
CREATED:20260303T033625Z
LAST-MODIFIED:20260303T033627Z
UID:4505-1775151000-1775161800@temple-micah.org
SUMMARY:Temple Micah Second Seder
DESCRIPTION:Join us for family-friendly\, interactive Passover Seder followed by a delicious kosher-style meal. \n\n\n\nAppetizer\, main course\, drinks\, and dessert included. Please bring a bottle of your favorite kosher wine to share at your table. Reserve Early – Tickets are limited! Registration Deadline – Tuesday\, March 24. RESERVATIONS ARE REQUIRED. WE CANNOT ACCOMMODATE ANY LATE REGISTRATIONS OR WALK-INS! Questions? Available to help with set-up/clean-up? Contact Nancy Ballard at nballard.templemicah@gmail.com or 609-954-6116
URL:http://temple-micah.org/event/temple-micah-second-seder/
LOCATION:Grazie Bistro\, 2633 Main Street\, Lawrenceville\, NJ\, 2633 Main Street\, Lawrenceville\, New Jersey\, 08648\, United States
END:VEVENT
END:VCALENDAR