BEGIN:VCALENDAR
VERSION:2.0
PRODID:-//Temple Micah - ECPv6.15.16//NONSGML v1.0//EN
CALSCALE:GREGORIAN
METHOD:PUBLISH
X-WR-CALNAME:Temple Micah
X-ORIGINAL-URL:http://temple-micah.org
X-WR-CALDESC:Events for Temple Micah
REFRESH-INTERVAL;VALUE=DURATION:PT1H
X-Robots-Tag:noindex
X-PUBLISHED-TTL:PT1H
BEGIN:VTIMEZONE
TZID:UTC
BEGIN:STANDARD
TZOFFSETFROM:+0000
TZOFFSETTO:+0000
TZNAME:UTC
DTSTART:20230101T000000
END:STANDARD
END:VTIMEZONE
BEGIN:VEVENT
DTSTART;TZID=UTC:20241203T164500
DTEND;TZID=UTC:20241203T181500
DTSTAMP:20260422T175245
CREATED:20240819T155740Z
LAST-MODIFIED:20240819T160909Z
UID:4063-1733244300-1733249700@temple-micah.org
SUMMARY:Religious School
DESCRIPTION:
URL:http://temple-micah.org/event/religious-school-41/
LOCATION:New Jersey
END:VEVENT
BEGIN:VEVENT
DTSTART;TZID=UTC:20241206T193000
DTEND;TZID=UTC:20241206T193000
DTSTAMP:20260422T175245
CREATED:20240819T150253Z
LAST-MODIFIED:20241014T173004Z
UID:3993-1733513400-1733513400@temple-micah.org
SUMMARY:Kabbalat Shabbat
DESCRIPTION:Participation of RS students in grades 2\, 3\, 4 and 5.  \n\n\n\nIn person or livestream on Facebook
URL:http://temple-micah.org/event/kabbalat-shabbat-13/
LOCATION:New Jersey
END:VEVENT
BEGIN:VEVENT
DTSTART;TZID=UTC:20241210T164500
DTEND;TZID=UTC:20241210T181500
DTSTAMP:20260422T175245
CREATED:20240819T155807Z
LAST-MODIFIED:20240819T160949Z
UID:4068-1733849100-1733854500@temple-micah.org
SUMMARY:Religious School
DESCRIPTION:
URL:http://temple-micah.org/event/religious-school-42/
LOCATION:New Jersey
END:VEVENT
BEGIN:VEVENT
DTSTART;TZID=UTC:20241215T140000
DTEND;TZID=UTC:20241215T170000
DTSTAMP:20260422T175245
CREATED:20241104T193655Z
LAST-MODIFIED:20241104T193754Z
UID:4192-1734271200-1734282000@temple-micah.org
SUMMARY:Learn to Play Mah Jongg
DESCRIPTION:Fee includes an official 2024 Mah Jongg card and refreshments.
URL:http://temple-micah.org/event/learn-to-play-mah-jongg/
LOCATION:New Jersey
END:VEVENT
BEGIN:VEVENT
DTSTART;TZID=UTC:20241217T164500
DTEND;TZID=UTC:20241217T181500
DTSTAMP:20260422T175245
CREATED:20240819T155907Z
LAST-MODIFIED:20240819T161118Z
UID:4070-1734453900-1734459300@temple-micah.org
SUMMARY:Religious School
DESCRIPTION:Program: Hanukkah
URL:http://temple-micah.org/event/religious-school-43/
LOCATION:New Jersey
END:VEVENT
END:VCALENDAR