BEGIN:VCALENDAR
VERSION:2.0
PRODID:-//Temple Micah - ECPv6.15.16//NONSGML v1.0//EN
CALSCALE:GREGORIAN
METHOD:PUBLISH
X-ORIGINAL-URL:http://temple-micah.org
X-WR-CALDESC:Events for Temple Micah
REFRESH-INTERVAL;VALUE=DURATION:PT1H
X-Robots-Tag:noindex
X-PUBLISHED-TTL:PT1H
BEGIN:VTIMEZONE
TZID:UTC
BEGIN:STANDARD
TZOFFSETFROM:+0000
TZOFFSETTO:+0000
TZNAME:UTC
DTSTART:20240101T000000
END:STANDARD
END:VTIMEZONE
BEGIN:VEVENT
DTSTART;TZID=UTC:20250107T164500
DTEND;TZID=UTC:20250107T181500
DTSTAMP:20260422T162538
CREATED:20240821T171915Z
LAST-MODIFIED:20240821T173228Z
UID:4078-1736268300-1736273700@temple-micah.org
SUMMARY:Religious School
DESCRIPTION:
URL:http://temple-micah.org/event/religious-school-44/
LOCATION:New Jersey
END:VEVENT
BEGIN:VEVENT
DTSTART;TZID=UTC:20250110T193000
DTEND;TZID=UTC:20250110T193000
DTSTAMP:20260422T162538
CREATED:20240819T150339Z
LAST-MODIFIED:20241014T173326Z
UID:3995-1736537400-1736537400@temple-micah.org
SUMMARY:Kabbalat Shabbat
DESCRIPTION:In person or livestream on Facebook
URL:http://temple-micah.org/event/kabbalat-shabbat-14/
LOCATION:New Jersey
END:VEVENT
BEGIN:VEVENT
DTSTART;TZID=UTC:20250114T164500
DTEND;TZID=UTC:20250114T181500
DTSTAMP:20260422T162538
CREATED:20240821T172013Z
LAST-MODIFIED:20240821T173323Z
UID:4080-1736873100-1736878500@temple-micah.org
SUMMARY:Religious School
DESCRIPTION:
URL:http://temple-micah.org/event/religious-school-45/
LOCATION:New Jersey
END:VEVENT
BEGIN:VEVENT
DTSTART;TZID=UTC:20250128T164500
DTEND;TZID=UTC:20250128T181500
DTSTAMP:20260422T162538
CREATED:20240821T172120Z
LAST-MODIFIED:20240821T173409Z
UID:4082-1738082700-1738088100@temple-micah.org
SUMMARY:Religious School
DESCRIPTION:
URL:http://temple-micah.org/event/religious-school-46/
LOCATION:New Jersey
END:VEVENT
END:VCALENDAR