BEGIN:VCALENDAR
VERSION:2.0
PRODID:-//Temple Micah - ECPv6.15.16//NONSGML v1.0//EN
CALSCALE:GREGORIAN
METHOD:PUBLISH
X-WR-CALNAME:Temple Micah
X-ORIGINAL-URL:http://temple-micah.org
X-WR-CALDESC:Events for Temple Micah
REFRESH-INTERVAL;VALUE=DURATION:PT1H
X-Robots-Tag:noindex
X-PUBLISHED-TTL:PT1H
BEGIN:VTIMEZONE
TZID:UTC
BEGIN:STANDARD
TZOFFSETFROM:+0000
TZOFFSETTO:+0000
TZNAME:UTC
DTSTART:20240101T000000
END:STANDARD
END:VTIMEZONE
BEGIN:VEVENT
DTSTART;TZID=UTC:20250304T164500
DTEND;TZID=UTC:20250304T181500
DTSTAMP:20260422T131729
CREATED:20240821T172356Z
LAST-MODIFIED:20240821T173653Z
UID:4090-1741106700-1741112100@temple-micah.org
SUMMARY:Religious School
DESCRIPTION:
URL:http://temple-micah.org/event/religious-school-50/
LOCATION:New Jersey
END:VEVENT
BEGIN:VEVENT
DTSTART;TZID=UTC:20250311T164500
DTEND;TZID=UTC:20250311T181500
DTSTAMP:20260422T131729
CREATED:20240821T172448Z
LAST-MODIFIED:20240821T173734Z
UID:4092-1741711500-1741716900@temple-micah.org
SUMMARY:Religious School
DESCRIPTION:Program: Purim
URL:http://temple-micah.org/event/religious-school-51/
LOCATION:New Jersey
END:VEVENT
BEGIN:VEVENT
DTSTART;TZID=UTC:20250311T183000
DTEND;TZID=UTC:20250311T183000
DTSTAMP:20260422T131729
CREATED:20240819T153157Z
LAST-MODIFIED:20250310T185334Z
UID:4039-1741717800-1741717800@temple-micah.org
SUMMARY:Purim Celebration & Dinner
DESCRIPTION:
URL:http://temple-micah.org/event/purim-celebration-dinner/
LOCATION:New Jersey
END:VEVENT
BEGIN:VEVENT
DTSTART;TZID=UTC:20250314T193000
DTEND;TZID=UTC:20250314T193000
DTSTAMP:20260422T131729
CREATED:20240819T150527Z
LAST-MODIFIED:20250310T185227Z
UID:4000-1741980600-1741980600@temple-micah.org
SUMMARY:Kabbalat Shabbat
DESCRIPTION:In person only
URL:http://temple-micah.org/event/kabbalat-shabbat-16/
LOCATION:New Jersey
END:VEVENT
BEGIN:VEVENT
DTSTART;TZID=UTC:20250318T164500
DTEND;TZID=UTC:20250318T181500
DTSTAMP:20260422T131729
CREATED:20240821T172525Z
LAST-MODIFIED:20240821T173815Z
UID:4094-1742316300-1742321700@temple-micah.org
SUMMARY:Religious School
DESCRIPTION:
URL:http://temple-micah.org/event/religious-school-52/
LOCATION:New Jersey
END:VEVENT
BEGIN:VEVENT
DTSTART;TZID=UTC:20250325T164500
DTEND;TZID=UTC:20250325T181500
DTSTAMP:20260422T131729
CREATED:20240821T172606Z
LAST-MODIFIED:20240821T173849Z
UID:4096-1742921100-1742926500@temple-micah.org
SUMMARY:Religious School
DESCRIPTION:
URL:http://temple-micah.org/event/religious-school-53/
LOCATION:New Jersey
END:VEVENT
BEGIN:VEVENT
DTSTART;TZID=UTC:20250329T103000
DTEND;TZID=UTC:20250329T123000
DTSTAMP:20260422T131729
CREATED:20250310T185712Z
LAST-MODIFIED:20250310T185713Z
UID:4237-1743244200-1743251400@temple-micah.org
SUMMARY:Tot Shabbat
DESCRIPTION:Casual\, interactive Shabbat Service for families with young children. RSVP Here.
URL:http://temple-micah.org/event/tot-shabbat/
LOCATION:New Jersey
END:VEVENT
END:VCALENDAR