BEGIN:VCALENDAR
VERSION:2.0
PRODID:-//Temple Micah - ECPv6.15.16//NONSGML v1.0//EN
CALSCALE:GREGORIAN
METHOD:PUBLISH
X-ORIGINAL-URL:http://temple-micah.org
X-WR-CALDESC:Events for Temple Micah
REFRESH-INTERVAL;VALUE=DURATION:PT1H
X-Robots-Tag:noindex
X-PUBLISHED-TTL:PT1H
BEGIN:VTIMEZONE
TZID:UTC
BEGIN:STANDARD
TZOFFSETFROM:+0000
TZOFFSETTO:+0000
TZNAME:UTC
DTSTART:20240101T000000
END:STANDARD
END:VTIMEZONE
BEGIN:VEVENT
DTSTART;TZID=UTC:20250902T190000
DTEND;TZID=UTC:20250902T190000
DTSTAMP:20260422T033107
CREATED:20250831T195758Z
LAST-MODIFIED:20250831T195856Z
UID:4341-1756839600-1756839600@temple-micah.org
SUMMARY:Mah Jongg Game Night
DESCRIPTION:Free. RSVP to Ivy Cohen at ivyc1021@aol.com
URL:http://temple-micah.org/event/mah-jongg-game-night/
LOCATION:New Jersey
END:VEVENT
BEGIN:VEVENT
DTSTART;TZID=UTC:20250912T193000
DTEND;TZID=UTC:20250912T193000
DTSTAMP:20260422T033107
CREATED:20250724T205230Z
LAST-MODIFIED:20250724T205232Z
UID:4284-1757705400-1757705400@temple-micah.org
SUMMARY:Kabbalat Shabbat
DESCRIPTION:
URL:http://temple-micah.org/event/kabbalat-shabbat-20/
LOCATION:New Jersey
END:VEVENT
BEGIN:VEVENT
DTSTART;TZID=UTC:20250922T193000
DTEND;TZID=UTC:20250922T193000
DTSTAMP:20260422T033107
CREATED:20250724T210156Z
LAST-MODIFIED:20250724T210157Z
UID:4304-1758569400-1758569400@temple-micah.org
SUMMARY:Rosh Hashanah
DESCRIPTION:Evening service followed by Oneg
URL:http://temple-micah.org/event/rosh-hashanah-2/
LOCATION:New Jersey
END:VEVENT
BEGIN:VEVENT
DTSTART;TZID=UTC:20250923T100000
DTEND;TZID=UTC:20250923T100000
DTSTAMP:20260422T033107
CREATED:20250724T210351Z
LAST-MODIFIED:20250724T210353Z
UID:4307-1758621600-1758621600@temple-micah.org
SUMMARY:Rosh Hashanah
DESCRIPTION:Morning Service
URL:http://temple-micah.org/event/rosh-hashanah-3/
LOCATION:New Jersey
END:VEVENT
BEGIN:VEVENT
DTSTART;TZID=UTC:20250923T160000
DTEND;TZID=UTC:20250923T160000
DTSTAMP:20260422T033107
CREATED:20250724T210528Z
LAST-MODIFIED:20250724T210529Z
UID:4309-1758643200-1758643200@temple-micah.org
SUMMARY:Tashlich
DESCRIPTION:Colonial Lake\, Lawrenceville
URL:http://temple-micah.org/event/tashlich-2/
LOCATION:New Jersey
END:VEVENT
BEGIN:VEVENT
DTSTART;TZID=UTC:20250930T164500
DTEND;TZID=UTC:20250930T181500
DTSTAMP:20260422T033107
CREATED:20250831T201252Z
LAST-MODIFIED:20250902T180904Z
UID:4363-1759250700-1759256100@temple-micah.org
SUMMARY:Religious School
DESCRIPTION:First Day – Welcome
URL:http://temple-micah.org/event/religious-school-62/
LOCATION:New Jersey
END:VEVENT
END:VCALENDAR